BEGIN:VCALENDAR
VERSION:2.0
PRODID:-//The Sanctuary - ECPv6.15.0.1//NONSGML v1.0//EN
CALSCALE:GREGORIAN
METHOD:PUBLISH
X-WR-CALNAME:The Sanctuary
X-ORIGINAL-URL:https://thesanctuary.org.nz
X-WR-CALDESC:Events for The Sanctuary
REFRESH-INTERVAL;VALUE=DURATION:PT1H
X-Robots-Tag:noindex
X-PUBLISHED-TTL:PT1H
BEGIN:VTIMEZONE
TZID:Pacific/Auckland
BEGIN:STANDARD
TZOFFSETFROM:+1300
TZOFFSETTO:+1200
TZNAME:NZST
DTSTART:20240406T140000
END:STANDARD
BEGIN:DAYLIGHT
TZOFFSETFROM:+1200
TZOFFSETTO:+1300
TZNAME:NZDT
DTSTART:20240928T140000
END:DAYLIGHT
END:VTIMEZONE
BEGIN:VEVENT
DTSTART;TZID=Pacific/Auckland:20240809T191500
DTEND;TZID=Pacific/Auckland:20241004T210000
DTSTAMP:20260423T104805
CREATED:20211115T163927Z
LAST-MODIFIED:20211115T163927Z
UID:7850-1723230900-1728075600@thesanctuary.org.nz
SUMMARY:City Worship
DESCRIPTION:Local worshippers coming together to provide an environment for Worship and Prayer In the city. \n\nFriday- Fortnightly 7:15pm – 9pm(doors open 7pm) \nFamilies welcome\nOpen to all
URL:https://thesanctuary.org.nz/event/city-worship-2023-04-28/2024-08-09/
CATEGORIES:Events
ATTACH;FMTTYPE=image/jpeg:https://thesanctuary.org.nz/wp-content/uploads/Friday-Nights-.jpeg
END:VEVENT
BEGIN:VEVENT
DTSTART;TZID=Pacific/Auckland:20240823T191500
DTEND;TZID=Pacific/Auckland:20241018T210000
DTSTAMP:20260423T104805
CREATED:20211115T163927Z
LAST-MODIFIED:20211115T163927Z
UID:7851-1724440500-1729285200@thesanctuary.org.nz
SUMMARY:City Worship
DESCRIPTION:Local worshippers coming together to provide an environment for Worship and Prayer In the city. \n\nFriday- Fortnightly 7:15pm – 9pm(doors open 7pm) \nFamilies welcome\nOpen to all
URL:https://thesanctuary.org.nz/event/city-worship-2023-04-28/2024-08-23/
CATEGORIES:Events
ATTACH;FMTTYPE=image/jpeg:https://thesanctuary.org.nz/wp-content/uploads/Friday-Nights-.jpeg
END:VEVENT
BEGIN:VEVENT
DTSTART;TZID=Pacific/Auckland:20240906T191500
DTEND;TZID=Pacific/Auckland:20241101T210000
DTSTAMP:20260423T104805
CREATED:20211115T163927Z
LAST-MODIFIED:20211115T163927Z
UID:7852-1725650100-1730494800@thesanctuary.org.nz
SUMMARY:City Worship
DESCRIPTION:Local worshippers coming together to provide an environment for Worship and Prayer In the city. \n\nFriday- Fortnightly 7:15pm – 9pm(doors open 7pm) \nFamilies welcome\nOpen to all
URL:https://thesanctuary.org.nz/event/city-worship-2023-04-28/2024-09-06/
CATEGORIES:Events
ATTACH;FMTTYPE=image/jpeg:https://thesanctuary.org.nz/wp-content/uploads/Friday-Nights-.jpeg
END:VEVENT
BEGIN:VEVENT
DTSTART;TZID=Pacific/Auckland:20240920T191500
DTEND;TZID=Pacific/Auckland:20241115T210000
DTSTAMP:20260423T104805
CREATED:20211115T163927Z
LAST-MODIFIED:20211115T163927Z
UID:7853-1726859700-1731704400@thesanctuary.org.nz
SUMMARY:City Worship
DESCRIPTION:Local worshippers coming together to provide an environment for Worship and Prayer In the city. \n\nFriday- Fortnightly 7:15pm – 9pm(doors open 7pm) \nFamilies welcome\nOpen to all
URL:https://thesanctuary.org.nz/event/city-worship-2023-04-28/2024-09-20/
CATEGORIES:Events
ATTACH;FMTTYPE=image/jpeg:https://thesanctuary.org.nz/wp-content/uploads/Friday-Nights-.jpeg
END:VEVENT
END:VCALENDAR