BEGIN:VCALENDAR
VERSION:2.0
PRODID:-//The Sanctuary - ECPv6.15.0.1//NONSGML v1.0//EN
CALSCALE:GREGORIAN
METHOD:PUBLISH
X-WR-CALNAME:The Sanctuary
X-ORIGINAL-URL:https://thesanctuary.org.nz
X-WR-CALDESC:Events for The Sanctuary
REFRESH-INTERVAL;VALUE=DURATION:PT1H
X-Robots-Tag:noindex
X-PUBLISHED-TTL:PT1H
BEGIN:VTIMEZONE
TZID:Pacific/Auckland
BEGIN:STANDARD
TZOFFSETFROM:+1300
TZOFFSETTO:+1200
TZNAME:NZST
DTSTART:20250405T140000
END:STANDARD
BEGIN:DAYLIGHT
TZOFFSETFROM:+1200
TZOFFSETTO:+1300
TZNAME:NZDT
DTSTART:20250927T140000
END:DAYLIGHT
END:VTIMEZONE
BEGIN:VEVENT
DTSTART;TZID=Pacific/Auckland:20250216T183000
DTEND;TZID=Pacific/Auckland:20250216T203000
DTSTAMP:20260423T041538
CREATED:20250131T035216Z
LAST-MODIFIED:20250203T000227Z
UID:7886-1739730600-1739737800@thesanctuary.org.nz
SUMMARY:Evening Gathering – Rhema Trayner
DESCRIPTION:Please register below as seating is limited. Evening Gathering with Rhema Trayner at the Sanctuary. \nRhema Trayner leads Revive The Way\, a relational apostolic movement focused on creating disciples\, equipping leaders and planting house churches and helping the western church shift into the new wineskin. She emphasizes team ministry and a regional model of ekklesia\, returning to a biblical expression of church and the basic truths of the way of Christ. \nFor more info about Rhema Trayner and Revive the Way\, visitwww.rhematrayner.com \nPlease Note: there won’t be any children’s programs running for this event. 
URL:https://thesanctuary.org.nz/event/evening-gathering-rhema-trayner/
CATEGORIES:Events
ATTACH;FMTTYPE=image/jpeg:https://thesanctuary.org.nz/wp-content/uploads/Rhema.jpg
END:VEVENT
END:VCALENDAR