BEGIN:VCALENDAR
VERSION:2.0
PRODID:-//The Sanctuary - ECPv6.15.0.1//NONSGML v1.0//EN
CALSCALE:GREGORIAN
METHOD:PUBLISH
X-ORIGINAL-URL:https://thesanctuary.org.nz
X-WR-CALDESC:Events for The Sanctuary
REFRESH-INTERVAL;VALUE=DURATION:PT1H
X-Robots-Tag:noindex
X-PUBLISHED-TTL:PT1H
BEGIN:VTIMEZONE
TZID:Pacific/Auckland
BEGIN:STANDARD
TZOFFSETFROM:+1300
TZOFFSETTO:+1200
TZNAME:NZST
DTSTART:20250405T140000
END:STANDARD
BEGIN:DAYLIGHT
TZOFFSETFROM:+1200
TZOFFSETTO:+1300
TZNAME:NZDT
DTSTART:20250927T140000
END:DAYLIGHT
END:VTIMEZONE
BEGIN:VEVENT
DTSTART;TZID=Pacific/Auckland:20250505T190000
DTEND;TZID=Pacific/Auckland:20250505T210000
DTSTAMP:20260422T232904
CREATED:20250415T031251Z
LAST-MODIFIED:20250429T045734Z
UID:8004-1746471600-1746478800@thesanctuary.org.nz
SUMMARY:Prophetic Evening with Arleen Westerhof
DESCRIPTION:Join us for a prophetic evening with Arleen Westerhof on Monday 5 May at 7pm. \nArleen\, and her husband Dick\, are lead pastors at God’s Embassy Church in Amsterdam. During the past 20 years\, Embassy has grown into a cutting-edge international aposotolic centre. \nArleen is both an ordained prophet\, and apostle and co-founder of the European Prophetic Council. She is also a member of the Apostolic Council of Prophetic Elders. Arleen is an author\, experienced conference speaker and mentors prophetic leaders all over the globe. While in Tauranga for a short visit\, Arleen has offered to share a word of the Lord with us
URL:https://thesanctuary.org.nz/event/prophetic-evening-with-arleen-westerhof/
CATEGORIES:Events
ATTACH;FMTTYPE=image/jpeg:https://thesanctuary.org.nz/wp-content/uploads/Arleen-Westerhof.jpg
END:VEVENT
END:VCALENDAR