BEGIN:VCALENDAR
VERSION:2.0
PRODID:-//The Sanctuary - ECPv6.15.0.1//NONSGML v1.0//EN
CALSCALE:GREGORIAN
METHOD:PUBLISH
X-WR-CALNAME:The Sanctuary
X-ORIGINAL-URL:https://thesanctuary.org.nz
X-WR-CALDESC:Events for The Sanctuary
REFRESH-INTERVAL;VALUE=DURATION:PT1H
X-Robots-Tag:noindex
X-PUBLISHED-TTL:PT1H
BEGIN:VTIMEZONE
TZID:Pacific/Auckland
BEGIN:STANDARD
TZOFFSETFROM:+1300
TZOFFSETTO:+1200
TZNAME:NZST
DTSTART:20250405T140000
END:STANDARD
BEGIN:DAYLIGHT
TZOFFSETFROM:+1200
TZOFFSETTO:+1300
TZNAME:NZDT
DTSTART:20250927T140000
END:DAYLIGHT
END:VTIMEZONE
BEGIN:VEVENT
DTSTART;TZID=Pacific/Auckland:20250511T150000
DTEND;TZID=Pacific/Auckland:20250511T170000
DTSTAMP:20260422T232809
CREATED:20250318T210705Z
LAST-MODIFIED:20250319T204441Z
UID:7966-1746975600-1746982800@thesanctuary.org.nz
SUMMARY:School of the Prophetic
DESCRIPTION:Discover your identity and purpose – grow into the prophetic person God has created you to be. \nBlock 2 of the 3 block School of the Prophetic. At the end of the 12 weeks\, you will have a strong biblical foundation in which to prophecy\, grow in godly character and become His prophetic voice to your community. Let us be the example of Christ that He has called us to be. \nBlock 1 is a pre-requisite for Block 2.  \nTo register and for further details on times and dates head to https://masterpiece.net.nz/school-of-the-prophetic
URL:https://thesanctuary.org.nz/event/school-of-the-prophetic-2/2025-05-11/
CATEGORIES:Events
ATTACH;FMTTYPE=image/png:https://thesanctuary.org.nz/wp-content/uploads/MasterPiece-.png
END:VEVENT
END:VCALENDAR