BEGIN:VCALENDAR
VERSION:2.0
PRODID:-//The Sanctuary - ECPv6.15.0.1//NONSGML v1.0//EN
CALSCALE:GREGORIAN
METHOD:PUBLISH
X-ORIGINAL-URL:https://thesanctuary.org.nz
X-WR-CALDESC:Events for The Sanctuary
REFRESH-INTERVAL;VALUE=DURATION:PT1H
X-Robots-Tag:noindex
X-PUBLISHED-TTL:PT1H
BEGIN:VTIMEZONE
TZID:Pacific/Auckland
BEGIN:STANDARD
TZOFFSETFROM:+1300
TZOFFSETTO:+1200
TZNAME:NZST
DTSTART:20250405T140000
END:STANDARD
BEGIN:DAYLIGHT
TZOFFSETFROM:+1200
TZOFFSETTO:+1300
TZNAME:NZDT
DTSTART:20250927T140000
END:DAYLIGHT
END:VTIMEZONE
BEGIN:VEVENT
DTSTART;TZID=Pacific/Auckland:20250614T093000
DTEND;TZID=Pacific/Auckland:20250614T160000
DTSTAMP:20260422T215752
CREATED:20250527T062154Z
LAST-MODIFIED:20250527T062155Z
UID:8015-1749893400-1749916800@thesanctuary.org.nz
SUMMARY:Prophetic Workshop
DESCRIPTION:We welcome you to join us for a one day Prophetic Workshop with Masterpiece on Saturday June 14 from 9:30am-4pm at the Sanctuary. \nIf you want a refresher from the previous prophetic course or you want to be part of a prophetic community or are new in your journey – YOU ARE WELCOME TO COME JOIN US! \nThe day will cover topics such as: \n\nHoly Spirit\nBiblical basis to be God’s prophetic voice starting in Genesis and throughout the Bible\nProphecy is for all!\nTesting Prophecy\nplus lots of practical activations in a safe environment\n\nThe workshop cost is $30 and the provisional programme is: \n\nSession One\nActivation\nSession Two\nActivation\nLunch Break (please bring own lunch)\nQ & A\nSession Three\nActivations\n\nIf this sounds like something for you\, head to the website to register https://masterpiece.net.nz/prophetic-workshops
URL:https://thesanctuary.org.nz/event/prophetic-workshop/
CATEGORIES:Events
ATTACH;FMTTYPE=image/jpeg:https://thesanctuary.org.nz/wp-content/uploads/Prophetic-workshop.jpg
END:VEVENT
END:VCALENDAR