BEGIN:VCALENDAR
VERSION:2.0
PRODID:-//The Sanctuary - ECPv6.15.0.1//NONSGML v1.0//EN
CALSCALE:GREGORIAN
METHOD:PUBLISH
X-ORIGINAL-URL:https://thesanctuary.org.nz
X-WR-CALDESC:Events for The Sanctuary
REFRESH-INTERVAL;VALUE=DURATION:PT1H
X-Robots-Tag:noindex
X-PUBLISHED-TTL:PT1H
BEGIN:VTIMEZONE
TZID:Pacific/Auckland
BEGIN:STANDARD
TZOFFSETFROM:+1300
TZOFFSETTO:+1200
TZNAME:NZST
DTSTART:20250405T140000
END:STANDARD
BEGIN:DAYLIGHT
TZOFFSETFROM:+1200
TZOFFSETTO:+1300
TZNAME:NZDT
DTSTART:20250927T140000
END:DAYLIGHT
END:VTIMEZONE
BEGIN:VEVENT
DTSTART;TZID=Pacific/Auckland:20250621T190000
DTEND;TZID=Pacific/Auckland:20250621T203000
DTSTAMP:20260422T215740
CREATED:20250613T063645Z
LAST-MODIFIED:20250613T063645Z
UID:8179-1750532400-1750537800@thesanctuary.org.nz
SUMMARY:City Worship
DESCRIPTION:We’re so excited to host City Worship on 21 June at the Sanctuary from 7-8:30pm. \nWe welcome you to join us as we unite as the Body of Christ for a night of Spirit-led worship\, to pursue God’s presence together and exalt the name of Jesus over this city. \nAll are welcome.
URL:https://thesanctuary.org.nz/event/city-worship-2/
CATEGORIES:Events
ATTACH;FMTTYPE=image/png:https://thesanctuary.org.nz/wp-content/uploads/City-Worship.png
END:VEVENT
END:VCALENDAR