BEGIN:VCALENDAR
VERSION:2.0
PRODID:-//The Sanctuary - ECPv6.15.0.1//NONSGML v1.0//EN
CALSCALE:GREGORIAN
METHOD:PUBLISH
X-WR-CALNAME:The Sanctuary
X-ORIGINAL-URL:https://thesanctuary.org.nz
X-WR-CALDESC:Events for The Sanctuary
REFRESH-INTERVAL;VALUE=DURATION:PT1H
X-Robots-Tag:noindex
X-PUBLISHED-TTL:PT1H
BEGIN:VTIMEZONE
TZID:Pacific/Auckland
BEGIN:STANDARD
TZOFFSETFROM:+1300
TZOFFSETTO:+1200
TZNAME:NZST
DTSTART:20250405T140000
END:STANDARD
BEGIN:DAYLIGHT
TZOFFSETFROM:+1200
TZOFFSETTO:+1300
TZNAME:NZDT
DTSTART:20250927T140000
END:DAYLIGHT
END:VTIMEZONE
BEGIN:VEVENT
DTSTART;TZID=Pacific/Auckland:20250809T100000
DTEND;TZID=Pacific/Auckland:20250809T153000
DTSTAMP:20260422T185831
CREATED:20250715T042731Z
LAST-MODIFIED:20250721T050733Z
UID:8226-1754733600-1754753400@thesanctuary.org.nz
SUMMARY:Prophetic Art Workshop - Hearing God Through Images
DESCRIPTION:Do you have a desire to hear God’s voice and express that in a visual way? Lynne Sinclair Taylor’s experience as an artist\, minister\, and art teacher have qualified her to bring people into new realms of hearing God for themselves.\n \nUsing a range of exercises together with Lynne Sinclair Taylor’s skilled instruction you’ll come away from this prophetic art workshop with encouragement and some meaningful drawings. And you don’t have to be an artist. \n\nArt materials provided – bring your Bible and lunch\nCost $50 – suitable for 12 years old and over\n\nNumbers are limited and registrations close 7 August\, so register early and head to https://lynnesinclairtaylor.com/ \nContact lynnestaylor@gmail.com or 021 121 9864\nPayment can be made to 010315-0387318-00 (Lynne Sinclair Taylor)
URL:https://thesanctuary.org.nz/event/prophetic-art-workshop-hearing-god-through-images/
CATEGORIES:Events
ATTACH;FMTTYPE=image/jpeg:https://thesanctuary.org.nz/wp-content/uploads/Hearing-God-through-Images.jpg
END:VEVENT
END:VCALENDAR