BEGIN:VCALENDAR
VERSION:2.0
PRODID:-//The Sanctuary - ECPv6.15.0.1//NONSGML v1.0//EN
CALSCALE:GREGORIAN
METHOD:PUBLISH
X-ORIGINAL-URL:https://thesanctuary.org.nz
X-WR-CALDESC:Events for The Sanctuary
REFRESH-INTERVAL;VALUE=DURATION:PT1H
X-Robots-Tag:noindex
X-PUBLISHED-TTL:PT1H
BEGIN:VTIMEZONE
TZID:Pacific/Auckland
BEGIN:STANDARD
TZOFFSETFROM:+1300
TZOFFSETTO:+1200
TZNAME:NZST
DTSTART:20250405T140000
END:STANDARD
BEGIN:DAYLIGHT
TZOFFSETFROM:+1200
TZOFFSETTO:+1300
TZNAME:NZDT
DTSTART:20250927T140000
END:DAYLIGHT
END:VTIMEZONE
BEGIN:VEVENT
DTSTART;TZID=Pacific/Auckland:20251002T190000
DTEND;TZID=Pacific/Auckland:20251002T210000
DTSTAMP:20260422T154257
CREATED:20250828T222437Z
LAST-MODIFIED:20251001T202509Z
UID:8240-1759431600-1759438800@thesanctuary.org.nz
SUMMARY:Remnant Rising
DESCRIPTION:REMNANT RISING\nThursday\, 2 October · 7:00pm\nAn evening of worship\, healing\, deliverance\, and the Word. Come expectant for Jesus to move in power. \nGuest Ministries\nPastor Shardamani – Pastor\, evangelist\, and prophetess serving in the U.S. and abroad with a strong emphasis on individual prophetic ministry.\nwww.anugrahministries.com \nSteve & Risa Dominguez – Founders of Remnant Rising (USA). Revival-focused leaders who equip the church in healing\, deliverance\, and power evangelism\, known for hosting Glory Nights gatherings.\nwww.remnantrising.church \nThis is a free event\, all are welcome but you must register (see below).\nPlease note: childcare will not be provided.
URL:https://thesanctuary.org.nz/event/remnant-rising/
CATEGORIES:Events
ATTACH;FMTTYPE=image/jpeg:https://thesanctuary.org.nz/wp-content/uploads/WhatsApp-Image-2025-08-28-at-7.03.52-PM.jpeg
END:VEVENT
END:VCALENDAR