BEGIN:VCALENDAR
VERSION:2.0
PRODID:-//The Sanctuary - ECPv6.15.0.1//NONSGML v1.0//EN
CALSCALE:GREGORIAN
METHOD:PUBLISH
X-WR-CALNAME:The Sanctuary
X-ORIGINAL-URL:https://thesanctuary.org.nz
X-WR-CALDESC:Events for The Sanctuary
REFRESH-INTERVAL;VALUE=DURATION:PT1H
X-Robots-Tag:noindex
X-PUBLISHED-TTL:PT1H
BEGIN:VTIMEZONE
TZID:Pacific/Auckland
BEGIN:STANDARD
TZOFFSETFROM:+1300
TZOFFSETTO:+1200
TZNAME:NZST
DTSTART:20260404T140000
END:STANDARD
BEGIN:DAYLIGHT
TZOFFSETFROM:+1200
TZOFFSETTO:+1300
TZNAME:NZDT
DTSTART:20260926T140000
END:DAYLIGHT
END:VTIMEZONE
BEGIN:VEVENT
DTSTART;TZID=Pacific/Auckland:20260411T190000
DTEND;TZID=Pacific/Auckland:20260411T203000
DTSTAMP:20260422T054829
CREATED:20260330T032014Z
LAST-MODIFIED:20260330T044238Z
UID:8269-1775934000-1775939400@thesanctuary.org.nz
SUMMARY:City Worship
DESCRIPTION:We’re so excited to host City Worship on 11 April at the Sanctuary from 7-8:30pm. \nWe welcome you to join us as we unite as the Body of Christ for a night of Spirit-led worship\, to pursue God’s presence together and exalt the name of Jesus over this city. \nAll are welcome.
URL:https://thesanctuary.org.nz/event/city-worship-3/
CATEGORIES:Events
ATTACH;FMTTYPE=image/jpeg:https://thesanctuary.org.nz/wp-content/uploads/City-Worship.jpg
END:VEVENT
END:VCALENDAR