BEGIN:VCALENDAR
VERSION:2.0
PRODID:-//The Sanctuary - ECPv6.15.0.1//NONSGML v1.0//EN
CALSCALE:GREGORIAN
METHOD:PUBLISH
X-WR-CALNAME:The Sanctuary
X-ORIGINAL-URL:https://thesanctuary.org.nz
X-WR-CALDESC:Events for The Sanctuary
REFRESH-INTERVAL;VALUE=DURATION:PT1H
X-Robots-Tag:noindex
X-PUBLISHED-TTL:PT1H
BEGIN:VTIMEZONE
TZID:Pacific/Auckland
BEGIN:STANDARD
TZOFFSETFROM:+1300
TZOFFSETTO:+1200
TZNAME:NZST
DTSTART:20220402T140000
END:STANDARD
BEGIN:DAYLIGHT
TZOFFSETFROM:+1200
TZOFFSETTO:+1300
TZNAME:NZDT
DTSTART:20220924T140000
END:DAYLIGHT
BEGIN:STANDARD
TZOFFSETFROM:+1300
TZOFFSETTO:+1200
TZNAME:NZST
DTSTART:20230401T140000
END:STANDARD
BEGIN:DAYLIGHT
TZOFFSETFROM:+1200
TZOFFSETTO:+1300
TZNAME:NZDT
DTSTART:20230923T140000
END:DAYLIGHT
BEGIN:STANDARD
TZOFFSETFROM:+1300
TZOFFSETTO:+1200
TZNAME:NZST
DTSTART:20240406T140000
END:STANDARD
BEGIN:DAYLIGHT
TZOFFSETFROM:+1200
TZOFFSETTO:+1300
TZNAME:NZDT
DTSTART:20240928T140000
END:DAYLIGHT
END:VTIMEZONE
BEGIN:VEVENT
DTSTART;TZID=Pacific/Auckland:20240804T150000
DTEND;TZID=Pacific/Auckland:20240804T173000
DTSTAMP:20260423T105502
CREATED:20240215T235724Z
LAST-MODIFIED:20240215T235724Z
UID:7857-1722783600-1722792600@thesanctuary.org.nz
SUMMARY:Masterpiece: School of the Prophetic
DESCRIPTION:Block One:Prophecy from the Kingdom’s Perspective \nLed by Kolinio and Ruth Tuiraviravi & Team.  Prophecy in growing authority\, in teams to impact our communities and nation.  \nBlock costs $20 for the 4 weeks \nSunday 21st July: 3.00pm – 5.30pmSunday 28th July: 3.00pm – 5.30pmSunday 4th August: 3.00pm – 5.30pmSunday 11th August: 3.00pm – 5.30pm \nTo register or find out more information visit: masterpiece.net.nz \n  \n  \n 
URL:https://thesanctuary.org.nz/event/masterpiece-school-of-the-prophetic/2024-08-04/
CATEGORIES:Events
ATTACH;FMTTYPE=image/png:https://thesanctuary.org.nz/wp-content/uploads/MasterPiece-.png
END:VEVENT
BEGIN:VEVENT
DTSTART;TZID=Pacific/Auckland:20240728T150000
DTEND;TZID=Pacific/Auckland:20240728T173000
DTSTAMP:20260423T105502
CREATED:20240215T235724Z
LAST-MODIFIED:20240215T235724Z
UID:7856-1722178800-1722187800@thesanctuary.org.nz
SUMMARY:Masterpiece: School of the Prophetic
DESCRIPTION:Block One:Prophecy from the Kingdom’s Perspective \nLed by Kolinio and Ruth Tuiraviravi & Team.  Prophecy in growing authority\, in teams to impact our communities and nation.  \nBlock costs $20 for the 4 weeks \nSunday 21st July: 3.00pm – 5.30pmSunday 28th July: 3.00pm – 5.30pmSunday 4th August: 3.00pm – 5.30pmSunday 11th August: 3.00pm – 5.30pm \nTo register or find out more information visit: masterpiece.net.nz \n  \n  \n 
URL:https://thesanctuary.org.nz/event/masterpiece-school-of-the-prophetic/2024-07-28/
CATEGORIES:Events
ATTACH;FMTTYPE=image/png:https://thesanctuary.org.nz/wp-content/uploads/MasterPiece-.png
END:VEVENT
BEGIN:VEVENT
DTSTART;TZID=Pacific/Auckland:20240726T191500
DTEND;TZID=Pacific/Auckland:20240920T210000
DTSTAMP:20260423T105502
CREATED:20211115T163927Z
LAST-MODIFIED:20240725T224532Z
UID:5341-1722021300-1726866000@thesanctuary.org.nz
SUMMARY:City Worship
DESCRIPTION:Local worshippers coming together to provide an environment for Worship and Prayer In the city. \n\nFriday- Fortnightly 7:15pm – 9pm(doors open 7pm) \nFamilies welcome\nOpen to all
URL:https://thesanctuary.org.nz/event/city-worship-2023-04-28/2024-07-26/
CATEGORIES:Events
ATTACH;FMTTYPE=image/jpeg:https://thesanctuary.org.nz/wp-content/uploads/Friday-Nights-.jpeg
END:VEVENT
BEGIN:VEVENT
DTSTART;TZID=Pacific/Auckland:20240721T150000
DTEND;TZID=Pacific/Auckland:20240721T173000
DTSTAMP:20260423T105502
CREATED:20240215T235724Z
LAST-MODIFIED:20240725T225122Z
UID:7648-1721574000-1721583000@thesanctuary.org.nz
SUMMARY:Masterpiece: School of the Prophetic
DESCRIPTION:Block One:Prophecy from the Kingdom’s Perspective \nLed by Kolinio and Ruth Tuiraviravi & Team.  Prophecy in growing authority\, in teams to impact our communities and nation.  \nBlock costs $20 for the 4 weeks \nSunday 21st July: 3.00pm – 5.30pmSunday 28th July: 3.00pm – 5.30pmSunday 4th August: 3.00pm – 5.30pmSunday 11th August: 3.00pm – 5.30pm \nTo register or find out more information visit: masterpiece.net.nz \n  \n  \n 
URL:https://thesanctuary.org.nz/event/masterpiece-school-of-the-prophetic/2024-07-21/
CATEGORIES:Events
ATTACH;FMTTYPE=image/png:https://thesanctuary.org.nz/wp-content/uploads/MasterPiece-.png
END:VEVENT
BEGIN:VEVENT
DTSTART;VALUE=DATE:20240614
DTEND;VALUE=DATE:20240617
DTSTAMP:20260423T105502
CREATED:20240508T095127Z
LAST-MODIFIED:20240611T065929Z
UID:7773-1718323200-1718582399@thesanctuary.org.nz
SUMMARY:The Way/ Forward NZ + AUS
DESCRIPTION:This event is sold out!\nThe Sanctuary is partnering with Living Rooms\, Revive the Way\, Rhema Trayner  and others to bring The Way/ Forward to Tauranga. \nWe are followers of The Way who are going after REGIONAL UNITY & GOD’S PATTERN for His Ekklesia. We are SAINTS & LEADERS from all spheres of influence. From house church leaders\, marketplace ministers\, new church planters\, five-fold ministers\, ministers at home\, leaders of ministries and leaders within traditional expressions of the church. The thing we have in common is the desire to understand what Jesus is doing and to respond to this unique moment faithfully. We are from many generations and various streams\, yet we recognize that God is calling us to walk together. \nSUNDAY- TAURANGA ONLY | BRUNCH & LEADERSHIP DAY INTENSIVE \nJune 6-8: Atlanta\, USA\nJune 14-15: Tauranga\, NZ\nJune 28-29: Brisbane\, AUS\nJuly 5-6: Sydney\, AUS\nJuly 12-13: Bendigo\, AUS\nJuly 19-20: Melbourne\, AUS\nJuly 26-27: Perth\, AUS \nPlease note* The Registration process will include the option for individual\, couples or family registration and payment is made by making a Donation. All donations are in $USD\, but will transfer to show $NZD amount on your bank statement.
URL:https://thesanctuary.org.nz/event/the_way_forward/
CATEGORIES:Events
ATTACH;FMTTYPE=image/jpeg:https://thesanctuary.org.nz/wp-content/uploads/Way-Forward-Tauranga-1024x933-1.jpeg
END:VEVENT
BEGIN:VEVENT
DTSTART;TZID=Pacific/Auckland:20240518T190000
DTEND;TZID=Pacific/Auckland:20240518T210000
DTSTAMP:20260423T105502
CREATED:20240216T000655Z
LAST-MODIFIED:20240508T092946Z
UID:7663-1716058800-1716066000@thesanctuary.org.nz
SUMMARY:Breathe Of Life: Healing & Deliverance
DESCRIPTION:A night of healing and deliverance ministry with Bruce Rhea and the Breathe of Life Team.  \nFor more information see their websitewww.breathoflife.nz \n  \n  \n  \n  \n 
URL:https://thesanctuary.org.nz/event/masterpiece-school-of-the-prophetic-2/
CATEGORIES:Events
ATTACH;FMTTYPE=image/jpeg:https://thesanctuary.org.nz/wp-content/uploads/Image_20240228_155414_953.jpeg
END:VEVENT
BEGIN:VEVENT
DTSTART;TZID=Pacific/Auckland:20240302T100000
DTEND;TZID=Pacific/Auckland:20240302T153000
DTSTAMP:20260423T105502
CREATED:20240215T233717Z
LAST-MODIFIED:20240215T234104Z
UID:7635-1709373600-1709393400@thesanctuary.org.nz
SUMMARY:Hearing God Through Art (Prophetic Art) Workshop
DESCRIPTION:Do you have a desire to hear God’s voice and express that in a visual way? Lynne’s experience as an artist\, minister\, and art teacher have qualified her to bring people into new realms of hearing God for themselves. \nUsing a range of exercises together with Lynne’s skilled instruction you’ll come away from this prophetic art workshop with encouragement and some meaningful drawings. And you don’t have to be an artist. \nArt materials provided – bring your Bible and lunchCost $70 – suitable for 12 years old and over \nLIMITED NUMBERS – register early – registrations close Thursday before the workshop. \nContact lynnestaylor@gmail.comor 021 121 9864Please make payment to 010315-0387318-00 (Lynne Sinclair Taylor)
URL:https://thesanctuary.org.nz/event/hearing-god-through-art-prophetic-art-workshop/
ATTACH;FMTTYPE=image/jpeg:https://thesanctuary.org.nz/wp-content/uploads/banner-alternate-c.jpg
END:VEVENT
BEGIN:VEVENT
DTSTART;TZID=Pacific/Auckland:20230825T183000
DTEND;TZID=Pacific/Auckland:20230825T203000
DTSTAMP:20260423T105502
CREATED:20211115T163927Z
LAST-MODIFIED:20230817T050228Z
UID:7323-1692988200-1692995400@thesanctuary.org.nz
SUMMARY:City Worship Not @ The Sanctuary Tonight!  Come join us @ the Behold conference!
DESCRIPTION:We are all at BEHOLD conference tonight! \nThis is a gathering for the Body of Christ to come together as one for a weekend of worship\, prayer\, and encounter. Come and be equipped with truth and be empowered\, so we can partner with what God is doing in our city\, the nation of New Zealand\, and beyond. \nWhen:   August 25 – 27Where:  Abundant Life Community Center\, 36 Sutherland Rd\, Judea Tauranga \n 
URL:https://thesanctuary.org.nz/event/city-worship-2023-04-28-2023-08-25/
CATEGORIES:Events
ATTACH;FMTTYPE=image/png:https://thesanctuary.org.nz/wp-content/uploads/Screenshot-2023-08-17-164308.png
END:VEVENT
BEGIN:VEVENT
DTSTART;TZID=Pacific/Auckland:20230818T190000
DTEND;TZID=Pacific/Auckland:20230818T203000
DTSTAMP:20260423T105502
CREATED:20211115T163927Z
LAST-MODIFIED:20230817T042901Z
UID:7322-1692385200-1692390600@thesanctuary.org.nz
SUMMARY:City Worship
DESCRIPTION:Tonights worship led by YWAM Furnace DTS\nThe Sanctuary: Local worshippers coming together to provide an environment for Worship and Prayer In the city. \n\nEvery Friday Night 7pm – 8:30pm\nFamilies welcome\nOpen to all
URL:https://thesanctuary.org.nz/event/city-worship-2023-04-28-2023-08-18/
CATEGORIES:Events
ATTACH;FMTTYPE=image/jpeg:https://thesanctuary.org.nz/wp-content/uploads/WhatsApp-Image-2023-08-17-at-4.14.04-PM.jpeg
END:VEVENT
BEGIN:VEVENT
DTSTART;TZID=Pacific/Auckland:20230714T190000
DTEND;TZID=Pacific/Auckland:20230714T203000
DTSTAMP:20260423T105502
CREATED:20211115T163927Z
LAST-MODIFIED:20230627T094539Z
UID:7317-1689361200-1689366600@thesanctuary.org.nz
SUMMARY:No City Worship
DESCRIPTION:Local worshippers coming together to provide an environment for Worship and Prayer In the city. \n\nEvery Friday Night 7pm – 8:30pm\nFamilies welcome\nOpen to all
URL:https://thesanctuary.org.nz/event/city-worship-2023-04-28-2023-07-14/
CATEGORIES:Events
ATTACH;FMTTYPE=image/png:https://thesanctuary.org.nz/wp-content/uploads/City-Worship-Nights-Break-During-Term-Holidays-2.png
END:VEVENT
BEGIN:VEVENT
DTSTART;TZID=Pacific/Auckland:20230707T190000
DTEND;TZID=Pacific/Auckland:20230707T203000
DTSTAMP:20260423T105502
CREATED:20211115T163927Z
LAST-MODIFIED:20230627T094044Z
UID:7316-1688756400-1688761800@thesanctuary.org.nz
SUMMARY:No City Worship
DESCRIPTION:Local worshippers coming together to provide an environment for Worship and Prayer In the city. \n\nEvery Friday Night 7pm – 8:30pm\nFamilies welcome\nOpen to all
URL:https://thesanctuary.org.nz/event/city-worship-2023-04-28-2023-07-07/
CATEGORIES:Events
ATTACH;FMTTYPE=image/png:https://thesanctuary.org.nz/wp-content/uploads/City-Worship-Nights-Break-During-Term-Holidays-2.png
END:VEVENT
BEGIN:VEVENT
DTSTART;TZID=Pacific/Auckland:20230407T190000
DTEND;TZID=Pacific/Auckland:20230407T190000
DTSTAMP:20260423T105502
CREATED:20211115T163927Z
LAST-MODIFIED:20230412T030346Z
UID:668-1680894000-1680894000@thesanctuary.org.nz
SUMMARY:Worship & Communion
DESCRIPTION:This Good Friday! Join us for a time or worship & communion  \n\nFamilies welcome 🙂\nOpen to all 
URL:https://thesanctuary.org.nz/event/city-worship/
CATEGORIES:Events
ATTACH;FMTTYPE=image/jpeg:https://thesanctuary.org.nz/wp-content/uploads/IMG-0066-e1680732703763-7.jpg
END:VEVENT
BEGIN:VEVENT
DTSTART;TZID=Pacific/Auckland:20230407T073000
DTEND;TZID=Pacific/Auckland:20230407T133000
DTSTAMP:20260423T105502
CREATED:20230224T025913Z
LAST-MODIFIED:20230406T040726Z
UID:4066-1680852600-1680874200@thesanctuary.org.nz
SUMMARY:DAILY HOURS CLOSED
DESCRIPTION:Daily hours are closed for public holidays.\nThis space can also be used as a quiet workspace with complimentary wifi. In this space is a quiet devotional atmosphere\, so cell phones need to be on silent and any conversations take place in other spaces.   \nWhere there are other events in this space these will be listed in the events calendar on the website. \nIf you have any questions feel free to email us at thesanctuary.org.nz@gmail.com
URL:https://thesanctuary.org.nz/event/daily-open-hours-2023-04-07/
CATEGORIES:Events
ATTACH;FMTTYPE=image/png:https://thesanctuary.org.nz/wp-content/uploads/IMG-0066-e1680732703763.png
END:VEVENT
BEGIN:VEVENT
DTSTART;TZID=Pacific/Auckland:20230404T190000
DTEND;TZID=Pacific/Auckland:20230404T210000
DTSTAMP:20260423T105502
CREATED:20220629T220411Z
LAST-MODIFIED:20230328T223631Z
UID:2769-1680634800-1680642000@thesanctuary.org.nz
SUMMARY:Justice Prayer
DESCRIPTION:Interested in justice issues? Ever feel they’re too overwhelming and you’re not too sure how to pray about them? Come to Justice Prayer\, led by Ignite 6:8. Held on the first Tuesday of every month from 7-9 pm. Each month will have a different justice topic\, with a time of discussion surrounding the topic\, followed by prayer
URL:https://thesanctuary.org.nz/event/justice-prayer/2023-04-04/
CATEGORIES:Events
ATTACH;FMTTYPE=image/jpeg:https://thesanctuary.org.nz/wp-content/uploads/2021/10/luan-cabral-XVqwbImMR4M-unsplash-scaled.jpg
END:VEVENT
BEGIN:VEVENT
DTSTART;TZID=Pacific/Auckland:20230318T190000
DTEND;TZID=Pacific/Auckland:20230318T210000
DTSTAMP:20260423T105502
CREATED:20220623T044420Z
LAST-MODIFIED:20230309T235944Z
UID:2663-1679166000-1679173200@thesanctuary.org.nz
SUMMARY:Healing and Deliverance Meeting
DESCRIPTION:Healing and Deliverance meetings take place once a month at the Sanctuary and are run by Bruce Rea from Breath of Life Ministries. The heart behind the nights is to pray for people to receive healing\, freedom and be ministered to
URL:https://thesanctuary.org.nz/event/healing-and-deliverance-meeting/2023-03-18/
CATEGORIES:Events
ATTACH;FMTTYPE=image/jpeg:https://thesanctuary.org.nz/wp-content/uploads/2021/10/luan-cabral-XVqwbImMR4M-unsplash-scaled.jpg
END:VEVENT
BEGIN:VEVENT
DTSTART;TZID=Pacific/Auckland:20230306T050000
DTEND;TZID=Pacific/Auckland:20230306T070000
DTSTAMP:20260423T105502
CREATED:20230301T020643Z
LAST-MODIFIED:20230301T021134Z
UID:3901-1678078800-1678086000@thesanctuary.org.nz
SUMMARY:Five Days of Morning Prayer
DESCRIPTION:We welcome you to join us for morning prayer as we unite to pray for Tauranga – the body of Christ and its leaders\, for a move of the Holy Spirit in an unprecedented way\, for the salvation of the lost. \n5 days of Prayer and Fasting\n6-10 March\n5-7am\nWorship and Prayer at the Sanctuary – 159 Durham Street\, Tauranga \n 
URL:https://thesanctuary.org.nz/event/morning-prayer/2023-03-06/
CATEGORIES:Events
ATTACH;FMTTYPE=image/jpeg:https://thesanctuary.org.nz/wp-content/uploads/sanctuaryimage.jpg
END:VEVENT
BEGIN:VEVENT
DTSTART;TZID=Pacific/Auckland:20230228T103000
DTEND;TZID=Pacific/Auckland:20230228T120000
DTSTAMP:20260423T105502
CREATED:20230224T030406Z
LAST-MODIFIED:20230406T035712Z
UID:3871-1677580200-1677585600@thesanctuary.org.nz
SUMMARY:Prayer & Intercession
DESCRIPTION:We welcome you to join us at the Sanctuary for a time of prayer for the city and the nation from 10:30am-12pm every Tuesday
URL:https://thesanctuary.org.nz/event/prayer-and-intercession/2023-02-28/
CATEGORIES:Events
ATTACH;FMTTYPE=image/jpeg:https://thesanctuary.org.nz/wp-content/uploads/sanctuaryimage.jpg
END:VEVENT
BEGIN:VEVENT
DTSTART;TZID=Pacific/Auckland:20221118T090000
DTEND;TZID=Pacific/Auckland:20221118T210000
DTSTAMP:20260423T105502
CREATED:20221108T023356Z
LAST-MODIFIED:20221108T090109Z
UID:3623-1668762000-1668805200@thesanctuary.org.nz
SUMMARY:12 Hour Prayer and Worship Burn
DESCRIPTION:Together with Furnace Prayer Room\, we’ll be hosting a 12 hour prayer and worship burn in the spirit of celebration\, praise and thanksgiving\, as we reflect on the goodness of God. Come for an hour\, or come for all! We’d love you to join us as we unite as the Body of Christ. We can’t wait to see worship arise from the city of Tauranga \nFriday 18 November \n9am-9pm \nThe Sanctuary\, 159 Durham Street\, Tauranga
URL:https://thesanctuary.org.nz/event/12-hour-prayer-and-worship-burn/
CATEGORIES:Events
ATTACH;FMTTYPE=image/jpeg:https://thesanctuary.org.nz/wp-content/uploads/12-hour-prayer-and-worship-burn.jpg
END:VEVENT
BEGIN:VEVENT
DTSTART;TZID=Pacific/Auckland:20221029T093000
DTEND;TZID=Pacific/Auckland:20221030T170000
DTSTAMP:20260423T105502
CREATED:20221025T060354Z
LAST-MODIFIED:20221025T060356Z
UID:3614-1667035800-1667149200@thesanctuary.org.nz
SUMMARY:Prophetic Expression Conference
DESCRIPTION:We welcome you to join Heartsong Ministries for a two day Prophetic Expression conference at the Sanctuary. The conference will take place over the 29th and 30th of October. Together we’ll explore: \n\nthe biblical meaning of colours\, numbers and symbols to help you better understand and interpret dreams and visions.\nthe powerful\, visual imagery and hidden meanings in prophetic art.\nthe fundamental tools needed to go deeper and to see\, perceive and understand what God is speaking.\n\n\nRegistration for this event is required and will close on October 28th. To register\, simply email Maree Francis at info@heartsong.co.nz or by messaging on 021 0220 3690. More information about the conference\, registration fees and Heartsong Ministries can be found at https://www.heartsong.co.nz
URL:https://thesanctuary.org.nz/event/prophetic-expression-conference/
CATEGORIES:Events
ATTACH;FMTTYPE=image/png:https://thesanctuary.org.nz/wp-content/uploads/Heartsong-ministries.png
END:VEVENT
BEGIN:VEVENT
DTSTART;TZID=Pacific/Auckland:20220930T103000
DTEND;TZID=Pacific/Auckland:20220930T113000
DTSTAMP:20260423T105502
CREATED:20220922T024942Z
LAST-MODIFIED:20220922T025624Z
UID:3535-1664533800-1664537400@thesanctuary.org.nz
SUMMARY:Prayer for Israel
DESCRIPTION:We welcome you to join us for a time of worship-led prayer for Israel
URL:https://thesanctuary.org.nz/event/prayer-for-israel/2022-09-30/
CATEGORIES:Events
ATTACH;FMTTYPE=image/jpeg:https://thesanctuary.org.nz/wp-content/uploads/Israel.jpg
END:VEVENT
BEGIN:VEVENT
DTSTART;TZID=Pacific/Auckland:20220927T103000
DTEND;TZID=Pacific/Auckland:20220927T113000
DTSTAMP:20260423T105502
CREATED:20220922T024124Z
LAST-MODIFIED:20220922T024213Z
UID:3457-1664274600-1664278200@thesanctuary.org.nz
SUMMARY:Intercession
DESCRIPTION:We welcome you to join us as we unite to pray for Tauranga every Tuesday at the Sanctuary from 10:30-11:30am
URL:https://thesanctuary.org.nz/event/intercession-3/2022-09-27/
CATEGORIES:Events
ATTACH;FMTTYPE=image/jpeg:https://thesanctuary.org.nz/wp-content/uploads/2021/10/IMG_4647.jpg
END:VEVENT
BEGIN:VEVENT
DTSTART;TZID=Pacific/Auckland:20220903T130000
DTEND;TZID=Pacific/Auckland:20220903T200000
DTSTAMP:20260423T105502
CREATED:20220901T220754Z
LAST-MODIFIED:20220901T222201Z
UID:3325-1662210000-1662235200@thesanctuary.org.nz
SUMMARY:Worship burn
DESCRIPTION:We’d love you to join us as we unite together to worship\, exalt the name of Jesus over Tauranga and NZ\, and as we pray for revival and breakthrough. Feel free to come for the whole 7 hours or just to pop in. Hosted by Furnace Prayer Room\, each hour will be live worship with different singers and musicians
URL:https://thesanctuary.org.nz/event/worship-burn/
CATEGORIES:Events
ATTACH;FMTTYPE=image/jpeg:https://thesanctuary.org.nz/wp-content/uploads/2021/10/hannah-busing-gktFjKSWAmA-unsplash-scaled.jpg
END:VEVENT
BEGIN:VEVENT
DTSTART;TZID=Pacific/Auckland:20220814T150000
DTEND;TZID=Pacific/Auckland:20220814T160000
DTSTAMP:20260423T105502
CREATED:20220728T230720Z
LAST-MODIFIED:20220728T231743Z
UID:3115-1660489200-1660492800@thesanctuary.org.nz
SUMMARY:"Follow Me" - Children's Book Launch
DESCRIPTION:All Welcome to the BOOK LAUNCH of “Follow Me – the story of how Jesus chose the 12 disciples”. This children’s picture book is suitable for children of all ages – whether read by parents to the younger ones or read by the children themselves. \nAlan Taylor has researched the gospels and condensed the story down to 25 pages of professionally illustrated rhyming text. \nChildren Welcome – there will be materials available to colour in some of the pages from the book.\nLight refreshments are available while you get your signed copy for your kids or grandchildren – $20 a copy. \nEnquiries to Alan Taylor\ne. nztaylors@gmail.com | m. 027 450 8829
URL:https://thesanctuary.org.nz/event/follow-me-childrens-book-launch/
CATEGORIES:Events
ATTACH;FMTTYPE=image/jpeg:https://thesanctuary.org.nz/wp-content/uploads/FOLLOW-ME-Launch-flyer-1.jpg
END:VEVENT
BEGIN:VEVENT
DTSTART;TZID=Pacific/Auckland:20220705T190000
DTEND;TZID=Pacific/Auckland:20220705T210000
DTSTAMP:20260423T105502
CREATED:20220705T001246Z
LAST-MODIFIED:20220705T001246Z
UID:2847-1657047600-1657054800@thesanctuary.org.nz
SUMMARY:Justice Night
DESCRIPTION:Come and learn more about different justice issues at Justice Night! Led by Ignite 6:8\, Justice Night takes place on the first Tuesday of each month from 7-9 pm. With a speaker\, movie\, documentary or testimonials\, we investigate a different topic each month together to gain more of an informed understanding of what is going on in the world regarding injustices. Refreshments provided.
URL:https://thesanctuary.org.nz/event/justice-night/2022-07-05/
CATEGORIES:Events
ATTACH;FMTTYPE=image/jpeg:https://thesanctuary.org.nz/wp-content/uploads/sanctuaryimage.jpg
END:VEVENT
BEGIN:VEVENT
DTSTART;TZID=Pacific/Auckland:20220628T103000
DTEND;TZID=Pacific/Auckland:20220628T113000
DTSTAMP:20260423T105502
CREATED:20220622T203052Z
LAST-MODIFIED:20220630T032406Z
UID:2655-1656412200-1656415800@thesanctuary.org.nz
SUMMARY:Intercession
DESCRIPTION:Join us for an hour of intercession as we pray for Tauranga
URL:https://thesanctuary.org.nz/event/intercession-2/2022-06-28/
CATEGORIES:Events
ATTACH;FMTTYPE=image/jpeg:https://thesanctuary.org.nz/wp-content/uploads/2021/10/IMG_4647.jpg
END:VEVENT
BEGIN:VEVENT
DTSTART;TZID=Pacific/Auckland:20220624T190000
DTEND;TZID=Pacific/Auckland:20220624T203000
DTSTAMP:20260423T105502
CREATED:20211115T163927Z
LAST-MODIFIED:20220623T091630Z
UID:2276-1656097200-1656102600@thesanctuary.org.nz
SUMMARY:Cancelled Public Holiday
DESCRIPTION:Local worshippers coming together to provide an environment for Worship and Prayer In the city. \n\nEvery Friday Night 7pm – 8:30pm\nFamilies welcome 🙂\nOpen to all
URL:https://thesanctuary.org.nz/event/city-worship-2022-06-24/
CATEGORIES:Events
ATTACH;FMTTYPE=image/jpeg:https://thesanctuary.org.nz/wp-content/uploads/2021/11/CityWorship-3.jpg
END:VEVENT
BEGIN:VEVENT
DTSTART;TZID=Pacific/Auckland:20220624T073000
DTEND;TZID=Pacific/Auckland:20220624T103000
DTSTAMP:20260423T105502
CREATED:20220208T180833Z
LAST-MODIFIED:20220623T091451Z
UID:1049-1656055800-1656066600@thesanctuary.org.nz
SUMMARY:Cancelled Public Holiday
DESCRIPTION:The Sanctuary is not only a space that connects and gathers Kingdom minded believers but also makes room for encountering God during your week\, this is why 7:30 am – 10:30 am is dedicated to devotionals. \nDevotionals could be lead by a single or small group of musicians or a simple playlist on in the background. It will be a quiet space where you can read the word\, soak in his presence\, or even get your work done. \nGrab a coffee across the street at FOLK and come refresh in The Sanctuary
URL:https://thesanctuary.org.nz/event/morning-devotional-730-2022-06-24/
CATEGORIES:Events
ATTACH;FMTTYPE=image/jpeg:https://thesanctuary.org.nz/wp-content/uploads/2021/10/kelly-sikkema-YnRNdB-XTME-unsplash-1-scaled.jpg
END:VEVENT
BEGIN:VEVENT
DTSTART;TZID=Pacific/Auckland:20220623T073000
DTEND;TZID=Pacific/Auckland:20220623T103000
DTSTAMP:20260423T105502
CREATED:20220208T180833Z
LAST-MODIFIED:20220623T091251Z
UID:1048-1655969400-1655980200@thesanctuary.org.nz
SUMMARY:Devotional Cancelled For Public Holiday
DESCRIPTION:The Sanctuary is not only a space that connects and gathers Kingdom minded believers but also makes room for encountering God during your week\, this is why 7:30 am – 10:30 am is dedicated to devotionals. \nDevotionals could be lead by a single or small group of musicians or a simple playlist on in the background. It will be a quiet space where you can read the word\, soak in his presence\, or even get your work done. \nGrab a coffee across the street at FOLK and come refresh in The Sanctuary
URL:https://thesanctuary.org.nz/event/morning-devotional-730-2022-06-23/
CATEGORIES:Events
ATTACH;FMTTYPE=image/jpeg:https://thesanctuary.org.nz/wp-content/uploads/2021/10/kelly-sikkema-YnRNdB-XTME-unsplash-1-scaled.jpg
END:VEVENT
BEGIN:VEVENT
DTSTART;TZID=Pacific/Auckland:20220622T130000
DTEND;TZID=Pacific/Auckland:20220622T150000
DTSTAMP:20260423T105502
CREATED:20220621T020526Z
LAST-MODIFIED:20220621T020526Z
UID:2641-1655902800-1655910000@thesanctuary.org.nz
SUMMARY:Healing Rooms
DESCRIPTION:At Healing Rooms\, you can receive prayer and encouragement for physical and emotional healing anytime from 1-3pm on Wednesdays. Contact Sheryl Crawford for more information on 0276401263
URL:https://thesanctuary.org.nz/event/healing-rooms/2022-06-22/
CATEGORIES:Events
ATTACH;FMTTYPE=image/jpeg:https://thesanctuary.org.nz/wp-content/uploads/2021/10/36.jpg
END:VEVENT
BEGIN:VEVENT
DTSTART;TZID=Pacific/Auckland:20220525T190000
DTEND;TZID=Pacific/Auckland:20220525T210000
DTSTAMP:20260423T105502
CREATED:20220524T085150Z
LAST-MODIFIED:20220524T101525Z
UID:2434-1653505200-1653512400@thesanctuary.org.nz
SUMMARY:Creative Nights
DESCRIPTION:We want to glorify God with the creativity He has given us. Whether you want to just come by and check it out or you are ready to share what you created for the glory of our Lord\, you don’t want to miss this. Connect with your community in Tauranga and let’s worship God together. There will be an open mic for you to share as well as pre-prepared acts.\n25 May: Poetry Night\n1 June: Stories\, Skits and Plays\n8 June: Live Worship (original songs)
URL:https://thesanctuary.org.nz/event/creative-nights-marine-reach/2022-05-25/
CATEGORIES:Events
ATTACH;FMTTYPE=image/jpeg:https://thesanctuary.org.nz/wp-content/uploads/IMG-20220524-WA0012.jpg
END:VEVENT
END:VCALENDAR