BEGIN:VCALENDAR
VERSION:2.0
PRODID:-//The Sanctuary - ECPv6.15.0.1//NONSGML v1.0//EN
CALSCALE:GREGORIAN
METHOD:PUBLISH
X-WR-CALNAME:The Sanctuary
X-ORIGINAL-URL:https://thesanctuary.org.nz
X-WR-CALDESC:Events for The Sanctuary
REFRESH-INTERVAL;VALUE=DURATION:PT1H
X-Robots-Tag:noindex
X-PUBLISHED-TTL:PT1H
BEGIN:VTIMEZONE
TZID:Pacific/Auckland
BEGIN:STANDARD
TZOFFSETFROM:+1300
TZOFFSETTO:+1200
TZNAME:NZST
DTSTART:20210403T140000
END:STANDARD
BEGIN:DAYLIGHT
TZOFFSETFROM:+1200
TZOFFSETTO:+1300
TZNAME:NZDT
DTSTART:20210925T140000
END:DAYLIGHT
END:VTIMEZONE
BEGIN:VEVENT
DTSTART;TZID=Pacific/Auckland:20211109T210000
DTEND;TZID=Pacific/Auckland:20211110T000000
DTSTAMP:20260423T105502
CREATED:20211108T175755Z
LAST-MODIFIED:20211116T203732Z
UID:557-1636491600-1636502400@thesanctuary.org.nz
SUMMARY:Furnace Prayer Room
DESCRIPTION:The Furnace Prayer Room exists to establish a place where Jesus is the centre of the gathering\, and where individuals can unite through music-led prayer meetings. \nThe room welcomes both the devotionally inclined and those ready to appeal unto God for a breakthrough of justice. Our goal is to orchestrate the prayer of Jesus\, that on earth it would be as it is in heaven where there is never ending prayer and worship around God’s throne. \nWe aim to create a space for New Zealand and surrounding regions to encounter God in the place of worship and prayer\, become equipped to love Jesus wholeheartedly\, and be empowered to do the greater works He has invited us into. \nJoin us weekly for the Prayer Room @ The Sanctuary \nTuesday: 8AM-11AM\nThursday: 8AM-11AM\nFriday: 8AM-11AM
URL:https://thesanctuary.org.nz/event/morning/2021-11-09/
CATEGORIES:Events
ATTACH;FMTTYPE=image/jpeg:https://thesanctuary.org.nz/wp-content/uploads/2021/10/IMG_4640-1.jpg
END:VEVENT
END:VCALENDAR