BEGIN:VCALENDAR
VERSION:2.0
PRODID:-//The Sanctuary - ECPv6.15.0.1//NONSGML v1.0//EN
CALSCALE:GREGORIAN
METHOD:PUBLISH
X-WR-CALNAME:The Sanctuary
X-ORIGINAL-URL:https://thesanctuary.org.nz
X-WR-CALDESC:Events for The Sanctuary
REFRESH-INTERVAL;VALUE=DURATION:PT1H
X-Robots-Tag:noindex
X-PUBLISHED-TTL:PT1H
BEGIN:VTIMEZONE
TZID:Pacific/Auckland
BEGIN:STANDARD
TZOFFSETFROM:+1300
TZOFFSETTO:+1200
TZNAME:NZST
DTSTART:20250405T140000
END:STANDARD
BEGIN:DAYLIGHT
TZOFFSETFROM:+1200
TZOFFSETTO:+1300
TZNAME:NZDT
DTSTART:20250927T140000
END:DAYLIGHT
END:VTIMEZONE
BEGIN:VEVENT
DTSTART;TZID=Pacific/Auckland:20250916T190000
DTEND;TZID=Pacific/Auckland:20250916T210000
DTSTAMP:20260422T170741
CREATED:20250319T203223Z
LAST-MODIFIED:20250828T221442Z
UID:7982-1758049200-1758056400@thesanctuary.org.nz
SUMMARY:Justice Prayer
DESCRIPTION:Do you have a heart for justice? \nMicah 6:8 says\, “And what does the Lord require of you? To act justly and to love mercy and to walk humbly with your God”. \nJoin us every third Tuesday of the month from 7-9pm to pray for a justice topic
URL:https://thesanctuary.org.nz/event/justice-prayer-3/2025-09-16/
CATEGORIES:Events
ATTACH;FMTTYPE=image/jpeg:https://thesanctuary.org.nz/wp-content/uploads/sanctuaryimage.jpg
END:VEVENT
BEGIN:VEVENT
DTSTART;TZID=Pacific/Auckland:20250927T093000
DTEND;TZID=Pacific/Auckland:20250927T160000
DTSTAMP:20260422T170741
CREATED:20250715T004811Z
LAST-MODIFIED:20250828T220745Z
UID:8224-1758965400-1758988800@thesanctuary.org.nz
SUMMARY:Prophetic Workshop
DESCRIPTION:We welcome you to join us for a one day Prophetic Workshop with Masterpiece on Saturday 27 September from 9:30am-4pm at the Sanctuary. \nIf you want a refresher from the previous prophetic course or you want to be part of a prophetic community or are new in your journey – YOU ARE WELCOME TO COME JOIN US! \nThe day will cover topics such as: \n\nHoly Spirit\nBiblical basis to be God’s prophetic voice starting in Genesis and throughout the Bible\nProphecy is for all!\nTesting Prophecy\nplus lots of practical activations in a safe environment\n\nThe workshop cost is $30 and the provisional programme is: \n\nSession One\nActivation\nSession Two\nActivation\nLunch Break (please bring own lunch)\nQ & A\nSession Three\nActivations
URL:https://thesanctuary.org.nz/event/prophetic-workshop-7/
CATEGORIES:Events
ATTACH;FMTTYPE=image/png:https://thesanctuary.org.nz/wp-content/uploads/MasterPiece-.png
END:VEVENT
END:VCALENDAR